BEGIN:VCALENDAR
VERSION:2.0
PRODID:-//WTF - Winning The Fight! - ECPv6.15.20//NONSGML v1.0//EN
CALSCALE:GREGORIAN
METHOD:PUBLISH
X-WR-CALNAME:WTF - Winning The Fight!
X-ORIGINAL-URL:https://wtf-winningthefight.org
X-WR-CALDESC:Events for WTF - Winning The Fight!
REFRESH-INTERVAL;VALUE=DURATION:PT1H
X-Robots-Tag:noindex
X-PUBLISHED-TTL:PT1H
BEGIN:VTIMEZONE
TZID:America/Chicago
BEGIN:DAYLIGHT
TZOFFSETFROM:-0600
TZOFFSETTO:-0500
TZNAME:CDT
DTSTART:20250309T080000
END:DAYLIGHT
BEGIN:STANDARD
TZOFFSETFROM:-0500
TZOFFSETTO:-0600
TZNAME:CST
DTSTART:20251102T070000
END:STANDARD
BEGIN:DAYLIGHT
TZOFFSETFROM:-0600
TZOFFSETTO:-0500
TZNAME:CDT
DTSTART:20260308T080000
END:DAYLIGHT
BEGIN:STANDARD
TZOFFSETFROM:-0500
TZOFFSETTO:-0600
TZNAME:CST
DTSTART:20261101T070000
END:STANDARD
BEGIN:DAYLIGHT
TZOFFSETFROM:-0600
TZOFFSETTO:-0500
TZNAME:CDT
DTSTART:20270314T080000
END:DAYLIGHT
BEGIN:STANDARD
TZOFFSETFROM:-0500
TZOFFSETTO:-0600
TZNAME:CST
DTSTART:20271107T070000
END:STANDARD
END:VTIMEZONE
BEGIN:VEVENT
DTSTART;TZID=America/Chicago:20260302T190000
DTEND;TZID=America/Chicago:20260302T203000
DTSTAMP:20260422T080142
CREATED:20251104T204820Z
LAST-MODIFIED:20251104T204820Z
UID:6657-1772478000-1772483400@wtf-winningthefight.org
SUMMARY:Winner's Circle Meeting
DESCRIPTION:Winners Circle is a support group for families and loved ones of the addict.
URL:https://wtf-winningthefight.org/event/winners-circle-meeting-43/2026-03-02/
LOCATION:Faith Lutheran Church\, 6000 Morris Road\, Youth Room\, Flower Mound\, TX\, 75028\, United States
ORGANIZER;CN="WTF - Winning The Fight":MAILTO:kathy@WTF-WinningTheFight.org
END:VEVENT
END:VCALENDAR