BEGIN:VCALENDAR
VERSION:2.0
PRODID:-//WTF - Winning The Fight! - ECPv6.15.17.1//NONSGML v1.0//EN
CALSCALE:GREGORIAN
METHOD:PUBLISH
X-WR-CALNAME:WTF - Winning The Fight!
X-ORIGINAL-URL:https://wtf-winningthefight.org
X-WR-CALDESC:Events for WTF - Winning The Fight!
REFRESH-INTERVAL;VALUE=DURATION:PT1H
X-Robots-Tag:noindex
X-PUBLISHED-TTL:PT1H
BEGIN:VTIMEZONE
TZID:America/Chicago
BEGIN:DAYLIGHT
TZOFFSETFROM:-0600
TZOFFSETTO:-0500
TZNAME:CDT
DTSTART:20220313T080000
END:DAYLIGHT
BEGIN:STANDARD
TZOFFSETFROM:-0500
TZOFFSETTO:-0600
TZNAME:CST
DTSTART:20221106T070000
END:STANDARD
BEGIN:DAYLIGHT
TZOFFSETFROM:-0600
TZOFFSETTO:-0500
TZNAME:CDT
DTSTART:20230312T080000
END:DAYLIGHT
BEGIN:STANDARD
TZOFFSETFROM:-0500
TZOFFSETTO:-0600
TZNAME:CST
DTSTART:20231105T070000
END:STANDARD
BEGIN:DAYLIGHT
TZOFFSETFROM:-0600
TZOFFSETTO:-0500
TZNAME:CDT
DTSTART:20240310T080000
END:DAYLIGHT
BEGIN:STANDARD
TZOFFSETFROM:-0500
TZOFFSETTO:-0600
TZNAME:CST
DTSTART:20241103T070000
END:STANDARD
END:VTIMEZONE
BEGIN:VEVENT
DTSTART;TZID=America/Chicago:20230906T190000
DTEND;TZID=America/Chicago:20230906T203000
DTSTAMP:20260420T085810
CREATED:20230627T223851Z
LAST-MODIFIED:20240214T190016Z
UID:6203-1694026800-1694032200@wtf-winningthefight.org
SUMMARY:Denton Missing Pieces Support Group Meeting
DESCRIPTION:Missing Pieces is a support group for those that have lost someone to substance use.   We meet the 1st Wednesday of each month\, 7:00 – 8:30 pm NCTC Denton Campus\, 316 E. Hickory Street\, Room 112\, Denton\, TX  76201. Join us. \nLooking for a different location? We also meet in Flower Mound the 1st Wednesday of each month from 7-8:30pm. Learn More >
URL:https://wtf-winningthefight.org/event/denton-missing-pieces-support-group-meeting/
CATEGORIES:Meeting
END:VEVENT
END:VCALENDAR